BEGIN:VCALENDAR
VERSION:2.0
PRODID:-//Museo Elder de la Ciencia y la Tecnología - ECPv6.15.17.1//NONSGML v1.0//EN
CALSCALE:GREGORIAN
METHOD:PUBLISH
X-WR-CALNAME:Museo Elder de la Ciencia y la Tecnología
X-ORIGINAL-URL:https://www.museoelder.es
X-WR-CALDESC:Eventos para Museo Elder de la Ciencia y la Tecnología
REFRESH-INTERVAL;VALUE=DURATION:PT1H
X-Robots-Tag:noindex
X-PUBLISHED-TTL:PT1H
BEGIN:VTIMEZONE
TZID:UTC
BEGIN:STANDARD
TZOFFSETFROM:+0000
TZOFFSETTO:+0000
TZNAME:UTC
DTSTART:20230101T000000
END:STANDARD
END:VTIMEZONE
BEGIN:VEVENT
DTSTART;TZID=UTC:20241024T190000
DTEND;TZID=UTC:20241024T200000
DTSTAMP:20260424T175159
CREATED:20240909T160252Z
LAST-MODIFIED:20240909T160252Z
UID:109247-1729796400-1729800000@www.museoelder.es
SUMMARY:Documental “Canario. Prestigio y estigma del español de Canarias”. Presentación documental
DESCRIPTION:Documental “Canario. Prestigio y estigma del español de Canarias”. \nPresentación documental \n\n«El dialecto canario es\, a buen seguro\, el elemento identitario más importante y definitorio que tenemos en Canarias. Es el fruto de la evolución del idioma español en las islas a lo largo de los siglos\, con sus influencias\, tanto de ida como de vuelta. Empero\, el habla canaria todavía se identifica con rasgos clichés con los que relaciona a su vez la propia cultura canaria: ruralidad\, bajo nivel cultural\, contexto popular\, descuido intelectual… Este estigma social\, con el añadido de la expansión de los medios de comunicación donde se impone el español castellano\, han propiciado una forzosa imposición de esta modalidad lingüística sobre la autóctona. \nEn este contexto\, ¿está el dialecto canario en peligro de sustitución por la modalidad hispano centrista? ¿Se protege lo suficiente nuestra habla desde las administraciones\, instituciones educativas o el sector cultural? En cambio\, ¿este proceso es fruto de la evolución propia de una modalidad dialectal que se impone\, como ya sucedió con el español ante el tamazight? Preguntas a las que se intenta responder en este documental\, donde se analiza el uso (o desuso) de la modalidad dialectal canaria en medios de comunicación\, publicidad\, escuela\, literatura\, teatro o música. Una cuestión nada baladí a la que intentan responder mujeres y hombres con voz autorizada en el análisis de esta cuestión tan compleja». \n  \nCuando: 24/10/2024 \nHora: 19:00h \nDonde: Museo Elder \nDuración: 40’ \nEdad recomendada: para todos los públicos \nEntrada gratuita hasta completar aforo
URL:https://www.museoelder.es/evento/documental-canario-prestigio-y-estigma-del-espanol-de-canarias-presentacion-documental/
CATEGORIES:Actividades
ATTACH;FMTTYPE=image/jpeg:https://www.museoelder.es/wp-content/uploads/2024/09/POSTS_DOCUMENTAL_GC.jpg
END:VEVENT
END:VCALENDAR